BEGIN:VCALENDAR
VERSION:2.0
PRODID:-//Radio Clasica El Salvador - 103.3 FM - ECPv6.15.20//NONSGML v1.0//EN
CALSCALE:GREGORIAN
METHOD:PUBLISH
X-WR-CALNAME:Radio Clasica El Salvador - 103.3 FM
X-ORIGINAL-URL:https://www.radioclasica.com.sv
X-WR-CALDESC:Eventos para Radio Clasica El Salvador - 103.3 FM
REFRESH-INTERVAL;VALUE=DURATION:PT1H
X-Robots-Tag:noindex
X-PUBLISHED-TTL:PT1H
BEGIN:VTIMEZONE
TZID:America/El_Salvador
BEGIN:STANDARD
TZOFFSETFROM:-0600
TZOFFSETTO:-0600
TZNAME:CST
DTSTART:20250101T000000
END:STANDARD
END:VTIMEZONE
BEGIN:VEVENT
DTSTART;TZID=America/El_Salvador:20260110T150000
DTEND;TZID=America/El_Salvador:20260110T170000
DTSTAMP:20260421T065344
CREATED:20260108T222605Z
LAST-MODIFIED:20260108T222611Z
UID:16008-1768057200-1768064400@www.radioclasica.com.sv
SUMMARY:Taller: Crea tu Visión Board.
DESCRIPTION:La cultura también es parte de tus propósitos este 2026✨ \nDescubre la Agenda Cultural de Alianza Francesa. \nDéjate llevar por el cine\, el arte\, y los encuentros culturales que tenemos preparados para ti. \n  \n\nCompartir con las herramientas nativasCompartirCopiado al portapapeles\n\nCompartir en WhatsApp (Se abre en una ventana nueva)WhatsApp\n\nCompartir en Facebook (Se abre en una ventana nueva)Facebook
URL:https://www.radioclasica.com.sv/evento/taller-crea-tu-vision-board/
LOCATION:Alianza Francesa San Salvador\, Colonia y Calle La Mascota #547 y Pasaje #2\, San Salvador\, El Salvador
ATTACH;FMTTYPE=image/jpeg:https://www.radioclasica.com.sv/wp-content/uploads/2026/01/FB_IMG_1767909742607.jpg
END:VEVENT
END:VCALENDAR