BEGIN:VCALENDAR
VERSION:2.0
PRODID:-//Radio Clasica El Salvador - 103.3 FM - ECPv6.15.20//NONSGML v1.0//EN
CALSCALE:GREGORIAN
METHOD:PUBLISH
X-WR-CALNAME:Radio Clasica El Salvador - 103.3 FM
X-ORIGINAL-URL:https://www.radioclasica.com.sv
X-WR-CALDESC:Eventos para Radio Clasica El Salvador - 103.3 FM
REFRESH-INTERVAL;VALUE=DURATION:PT1H
X-Robots-Tag:noindex
X-PUBLISHED-TTL:PT1H
BEGIN:VTIMEZONE
TZID:America/El_Salvador
BEGIN:STANDARD
TZOFFSETFROM:-0600
TZOFFSETTO:-0600
TZNAME:CST
DTSTART:20240101T000000
END:STANDARD
END:VTIMEZONE
BEGIN:VEVENT
DTSTART;TZID=America/El_Salvador:20251208T180000
DTEND;TZID=America/El_Salvador:20251208T200000
DTSTAMP:20260421T103317
CREATED:20251202T200255Z
LAST-MODIFIED:20251202T200413Z
UID:13475-1765216800-1765224000@www.radioclasica.com.sv
SUMMARY:Noche de Villancicos y Amistad.
DESCRIPTION:Noche de Villancicos… y amistad. ✨ \nEl próximo 8 de diciembre ✨nos reunimos en la Parroquia Universitaria UCA. \nViviremos una noche especial: nuestros amigos de Añil Coral\, Peña Coral\, Acuarela Coral y el Coro Generacional UCA se unen en una sola voz para celebrar la Navidad y desearnos un próspero 2025. \n🎶 Acompañanos a cantar\, compartir y encender juntos la esperanza. \nTe esperamos! \n\nCompartir con las herramientas nativasCompartirCopiado al portapapeles\n\nCompartir en WhatsApp (Se abre en una ventana nueva)WhatsApp\n\nCompartir en Facebook (Se abre en una ventana nueva)Facebook
URL:https://www.radioclasica.com.sv/evento/noche-de-villancicos-y-amistad/
LOCATION:CAPILLA UCA
ATTACH;FMTTYPE=image/jpeg:https://www.radioclasica.com.sv/wp-content/uploads/2025/12/IMG-20251202-WA0014.jpg
END:VEVENT
BEGIN:VEVENT
DTSTART;TZID=America/El_Salvador:20251212T183000
DTEND;TZID=America/El_Salvador:20251212T200000
DTSTAMP:20260421T103317
CREATED:20251204T173650Z
LAST-MODIFIED:20251204T173700Z
UID:13567-1765564200-1765569600@www.radioclasica.com.sv
SUMMARY:Villancicos con la Sociedad Coral Salvadoreña Ion Cubicec.
DESCRIPTION:“El mensaje de los ángeles” \nVillancicos con la Sociedad Coral Salvadoreña Ion Cubicec12 de diciembre • 6:30 p.m. • Plaza Kalpataru. \nEsta Navidad\, la música desciende como luz sobre Plaza Kalpataru. El próximo 12 de diciembre a las 6:30 p.m.\, abriremos nuestras puertas para recibir una presentación inolvidable: la interpretación de villancicos navideños a cargo de la Sociedad Coral Salvadoreña Ion Cubicec\, heredera del legado del maestro Ion Cubicec\, referente indiscutible del arte coral en El Salvador. \nBajo el título “El mensaje de los ángeles”\, estas voces profesionales —armoniosas\, disciplinadas y llenas de espiritualidad— nos conducirán hacia una experiencia casi celestial. \nA lo largo de cánticos navideños de diferentes épocas\, el público vivirá un viaje sonoro que celebra la esperanza\, la unión y la belleza que solo el arte y la Navidad saben despertar. \nLa velada incluirá: \n✨ Tradicionales postres navideños✨ Crepas recién preparadas✨ Chocolate caliente✨ Nuestra bebida navideña de temporada✨ Árbol de los deseos✨ Rifas especiales \nAporte: $7.00 (incluye bebida de cortesía) \nLos invitamos a vivir una noche llena de luz\, tradición y armonía.Plaza Kalpataru: donde la Navidad se escucha y se siente. \n\nCompartir con las herramientas nativasCompartirCopiado al portapapeles\n\nCompartir en WhatsApp (Se abre en una ventana nueva)WhatsApp\n\nCompartir en Facebook (Se abre en una ventana nueva)Facebook
URL:https://www.radioclasica.com.sv/evento/villancicos-con-la-sociedad-coral-salvadorena-ion-cubicec/
ATTACH;FMTTYPE=image/jpeg:https://www.radioclasica.com.sv/wp-content/uploads/2025/12/IMG-20251203-WA0010.jpg
END:VEVENT
BEGIN:VEVENT
DTSTART;TZID=America/El_Salvador:20251219T193000
DTEND;TZID=America/El_Salvador:20251219T210000
DTSTAMP:20260421T103317
CREATED:20251203T212032Z
LAST-MODIFIED:20251203T212037Z
UID:13522-1766172600-1766178000@www.radioclasica.com.sv
SUMMARY:Concierto de Villancicos.
DESCRIPTION:🎄✨ ¡Te invitamos a un hermoso Concierto de Villancicos! ✨🎶La Parroquia Corazón de María se llena de luz y alegría para celebrar juntos el nacimiento del Señor a través del canto. \nParticiparán las corales: Corazón de María\, San José de la Montaña y Peña Coral\, quienes nos regalarán una noche llena de fe\, música y espíritu navideño. \n📅 19 de diciembre⏰ 7:30 p.m.💲 Valor: $5 \nSerá una oportunidad para orar\, disfrutar y prepararnos como comunidad para la Navidad.🎵❤️ ¡Esperamos contar contigo y tu familia! \n\nCompartir con las herramientas nativasCompartirCopiado al portapapeles\n\nCompartir en WhatsApp (Se abre en una ventana nueva)WhatsApp\n\nCompartir en Facebook (Se abre en una ventana nueva)Facebook
URL:https://www.radioclasica.com.sv/evento/concierto-de-villancicos/
ATTACH;FMTTYPE=image/jpeg:https://www.radioclasica.com.sv/wp-content/uploads/2025/12/IMG-20251202-WA0018.jpg
END:VEVENT
BEGIN:VEVENT
DTSTART;TZID=America/El_Salvador:20251220T180000
DTEND;TZID=America/El_Salvador:20251220T190000
DTSTAMP:20260421T103317
CREATED:20251217T173449Z
LAST-MODIFIED:20251217T173510Z
UID:14257-1766253600-1766257200@www.radioclasica.com.sv
SUMMARY:Concierto de Villancicos Navideños.
DESCRIPTION:El Festival Cultural de la Cordillera del Viento junto con Casa Degraciela le invitan al concierto de villancicos navideños. \nDía: Sábado 20 de diciembreHora: 6:00 p.m.Lugar: Casa Degraciela #Ataco \nAsiste con tu familia y vive la temporada navideña en este bonito pueblo. \n  \n\nCompartir con las herramientas nativasCompartirCopiado al portapapeles\n\nCompartir en WhatsApp (Se abre en una ventana nueva)WhatsApp\n\nCompartir en Facebook (Se abre en una ventana nueva)Facebook
URL:https://www.radioclasica.com.sv/evento/concierto-de-villancicos-navidenos/
LOCATION:Casa Degraciela\, Ataco\, Ahuachapán
ATTACH;FMTTYPE=image/jpeg:https://www.radioclasica.com.sv/wp-content/uploads/2025/12/FB_IMG_1765989586684.jpg
END:VEVENT
END:VCALENDAR