BEGIN:VCALENDAR
VERSION:2.0
PRODID:-//Radio Clasica El Salvador - 103.3 FM - ECPv6.15.20//NONSGML v1.0//EN
CALSCALE:GREGORIAN
METHOD:PUBLISH
X-ORIGINAL-URL:https://www.radioclasica.com.sv
X-WR-CALDESC:Eventos para Radio Clasica El Salvador - 103.3 FM
REFRESH-INTERVAL;VALUE=DURATION:PT1H
X-Robots-Tag:noindex
X-PUBLISHED-TTL:PT1H
BEGIN:VTIMEZONE
TZID:America/El_Salvador
BEGIN:STANDARD
TZOFFSETFROM:-0600
TZOFFSETTO:-0600
TZNAME:CST
DTSTART:20250101T000000
END:STANDARD
END:VTIMEZONE
BEGIN:VEVENT
DTSTART;TZID=America/El_Salvador:20260209T100000
DTEND;TZID=America/El_Salvador:20260215T220000
DTSTAMP:20260419T080715
CREATED:20260209T182929Z
LAST-MODIFIED:20260209T182942Z
UID:20402-1770631200-1771192800@www.radioclasica.com.sv
SUMMARY:Teatro Nacional de San Salvador
DESCRIPTION:El Teatro Nacional de San Salvador abre en horario especial. 🎭✨ \nAcompáñanos a recorrer este emblemático espacio cultural\, conocer su historia y disfrutar de una experiencia artística con recorridos guiados y una agenda especial de presentaciones pensada para toda la familia. \n📍 Teatro Nacional de San Salvador.🗓️ Lunes 9 de febrero.⏰ 10:00 a.m. – 10:00 p.m. \n¡Ven y vive el arte en el corazón del Centro Histórico de San Salvador! \n\nCompartir con las herramientas nativasCompartirCopiado al portapapeles\n\nCompartir en WhatsApp (Se abre en una ventana nueva)WhatsApp\n\nCompartir en Facebook (Se abre en una ventana nueva)Facebook
URL:https://www.radioclasica.com.sv/evento/teatro-nacional-de-san-salvador/
ATTACH;FMTTYPE=image/jpeg:https://www.radioclasica.com.sv/wp-content/uploads/2026/02/FB_IMG_1770660909333.jpg
END:VEVENT
END:VCALENDAR