BEGIN:VCALENDAR
VERSION:2.0
PRODID:-//Radio Clasica El Salvador - 103.3 FM - ECPv6.15.20//NONSGML v1.0//EN
CALSCALE:GREGORIAN
METHOD:PUBLISH
X-WR-CALNAME:Radio Clasica El Salvador - 103.3 FM
X-ORIGINAL-URL:https://www.radioclasica.com.sv
X-WR-CALDESC:Eventos para Radio Clasica El Salvador - 103.3 FM
REFRESH-INTERVAL;VALUE=DURATION:PT1H
X-Robots-Tag:noindex
X-PUBLISHED-TTL:PT1H
BEGIN:VTIMEZONE
TZID:America/El_Salvador
BEGIN:STANDARD
TZOFFSETFROM:-0600
TZOFFSETTO:-0600
TZNAME:CST
DTSTART:20240101T000000
END:STANDARD
END:VTIMEZONE
BEGIN:VEVENT
DTSTART;TZID=America/El_Salvador:20251217T190000
DTEND;TZID=America/El_Salvador:20251217T210000
DTSTAMP:20260419T092834
CREATED:20251214T184949Z
LAST-MODIFIED:20251215T155731Z
UID:14115-1765998000-1766005200@www.radioclasica.com.sv
SUMMARY:Tributo a Queen
DESCRIPTION:Tributo a Queen por el Contratenor de El Salvador\, Mauricio Galán. Acompañado por Miguel Rivas al piano 🎹🎵 \n📍 Pequeña Sala del Teatro Nacional de San Salvador\n📆 Miércoles 17 de diciembre\n🕖 7 p.m.\n🎟️ $8 entrada general\n📲 info: 7885-5507 \nEl aforo es limitado\, puedes asegurar tu entrada a través de nuestro link: https://s.wompi.sv/557493a6w \n\n\n\n\n\n\n\n\n \n\nCompartir con las herramientas nativasCompartirCopiado al portapapeles\n\nCompartir en WhatsApp (Se abre en una ventana nueva)WhatsApp\n\nCompartir en Facebook (Se abre en una ventana nueva)Facebook
URL:https://www.radioclasica.com.sv/evento/tributo-a-queen/
ATTACH;FMTTYPE=image/jpeg:https://www.radioclasica.com.sv/wp-content/uploads/2025/12/IMG-20251213-WA0043-1.jpg
END:VEVENT
BEGIN:VEVENT
DTSTART;TZID=America/El_Salvador:20251226T190000
DTEND;TZID=America/El_Salvador:20251228T160000
DTSTAMP:20260419T092834
CREATED:20251224T023905Z
LAST-MODIFIED:20251224T023911Z
UID:14648-1766775600-1766937600@www.radioclasica.com.sv
SUMMARY:La magia de El Cascanueces
DESCRIPTION:La magia de El Cascanueces sigue viva en el Teatro Nacional de San Salvador. \n✨🩰Te invitamos a disfrutar en familia de este clásico del ballet que despierta el espíritu navideño a través de la música y la danza. \nFunciones:🗓️ Viernes 26 de diciembre | 7:00 p.m.🗓️ Sábado 27 de diciembre | 6:00 p.m.🗓️ Domingo 28 de diciembre | 10:00 a.m. y 4:00 p.m. \n🎟️ Entradas disponibles en la taquilla del Teatro Nacional. \n\nCompartir con las herramientas nativasCompartirCopiado al portapapeles\n\nCompartir en WhatsApp (Se abre en una ventana nueva)WhatsApp\n\nCompartir en Facebook (Se abre en una ventana nueva)Facebook
URL:https://www.radioclasica.com.sv/evento/la-magia-de-el-cascanueces/
LOCATION:Teatro Nacional de San Salvador
ATTACH;FMTTYPE=image/jpeg:https://www.radioclasica.com.sv/wp-content/uploads/2025/12/FB_IMG_1766543457759.jpg
END:VEVENT
END:VCALENDAR