BEGIN:VCALENDAR
VERSION:2.0
PRODID:-//Radio Clasica El Salvador - 103.3 FM - ECPv6.15.20//NONSGML v1.0//EN
CALSCALE:GREGORIAN
METHOD:PUBLISH
X-WR-CALNAME:Radio Clasica El Salvador - 103.3 FM
X-ORIGINAL-URL:https://www.radioclasica.com.sv
X-WR-CALDESC:Eventos para Radio Clasica El Salvador - 103.3 FM
REFRESH-INTERVAL;VALUE=DURATION:PT1H
X-Robots-Tag:noindex
X-PUBLISHED-TTL:PT1H
BEGIN:VTIMEZONE
TZID:America/El_Salvador
BEGIN:STANDARD
TZOFFSETFROM:-0600
TZOFFSETTO:-0600
TZNAME:CST
DTSTART:20240101T000000
END:STANDARD
END:VTIMEZONE
BEGIN:VEVENT
DTSTART;TZID=America/El_Salvador:20251129T140000
DTEND;TZID=America/El_Salvador:20251129T160000
DTSTAMP:20260421T125106
CREATED:20251127T180258Z
LAST-MODIFIED:20251127T180304Z
UID:13358-1764424800-1764432000@www.radioclasica.com.sv
SUMMARY:Taller: Barquito de papel
DESCRIPTION:🎨✨ ¡Descubre el arte del plein air con gouache! \nEste 29 de noviembre te invitamos a una experiencia creativa junto a Barquito de papel\, donde podrás explorar la pintura al aire libre\, jugar con colores vibrantes y conectar con tu lado artístico. \n🖌️ Incluye materiales\n📍 Alianza Francesa – Mediateca\n⏰ 2:00 p.m. a 4:00 p.m.\n💵 $25.00 – Cupo limitado \nTe espera un día artístico \n— ¡inscríbete y reserva tu lugar! 💫 \n\nCompartir con las herramientas nativasCompartirCopiado al portapapeles\n\nCompartir en WhatsApp (Se abre en una ventana nueva)WhatsApp\n\nCompartir en Facebook (Se abre en una ventana nueva)Facebook
URL:https://www.radioclasica.com.sv/evento/taller-barquito-de-papel/
LOCATION:Alianza Francesa San Salvador\, Colonia y Calle La Mascota #547 y Pasaje #2\, San Salvador\, El Salvador
ATTACH;FMTTYPE=image/jpeg:https://www.radioclasica.com.sv/wp-content/uploads/2025/11/FB_IMG_1764264641002.jpg
END:VEVENT
END:VCALENDAR