BEGIN:VCALENDAR
VERSION:2.0
PRODID:-//Radio Clasica El Salvador - 103.3 FM - ECPv6.15.20//NONSGML v1.0//EN
CALSCALE:GREGORIAN
METHOD:PUBLISH
X-WR-CALNAME:Radio Clasica El Salvador - 103.3 FM
X-ORIGINAL-URL:https://www.radioclasica.com.sv
X-WR-CALDESC:Eventos para Radio Clasica El Salvador - 103.3 FM
REFRESH-INTERVAL;VALUE=DURATION:PT1H
X-Robots-Tag:noindex
X-PUBLISHED-TTL:PT1H
BEGIN:VTIMEZONE
TZID:America/El_Salvador
BEGIN:STANDARD
TZOFFSETFROM:-0600
TZOFFSETTO:-0600
TZNAME:CST
DTSTART:20250101T000000
END:STANDARD
END:VTIMEZONE
BEGIN:VEVENT
DTSTART;TZID=America/El_Salvador:20260206T180000
DTEND;TZID=America/El_Salvador:20260206T200000
DTSTAMP:20260419T065415
CREATED:20260127T005220Z
LAST-MODIFIED:20260127T005237Z
UID:18330-1770400800-1770408000@www.radioclasica.com.sv
SUMMARY:Programa ENCUENTROS en Kalpataru
DESCRIPTION:Radio Clásica da inicio a la tercera temporada de su programa Encuentros\, un espacio de diálogo profundo sobre pensamiento\, literatura y cultura\, conducido por el Dr. Emilio Delgado y Elizabeth Trabanino. \nPara esta apertura de temporada\, el programa contará con la presencia del distinguido invitado Dr. Germán Cáceres Buitrago\, con quien se conversará en torno a su más reciente obra Tientos y Narraciones: Ensayos\, Cuentos y Discursos\, una publicación que transita entre la reflexión ensayística\, la narrativa breve y el discurso humanista. \nEl encuentro será un programa grabado en vivo\, con participación del público\, propiciando un diálogo cercano entre el autor\, los conductores y la audiencia\, en un ambiente que celebra la palabra\, el pensamiento crítico y la experiencia compartida. \n📍 Lugar: Plaza Kalpataru\, 928 calle la Mascota\, San Salvador📅 Fecha: viernes 6 de febrero⏰ Hora: 6:00 p.m. \nUna invitación a vivir la radio más allá del micrófono\, en un espacio donde las ideas se encuentran y la cultura se celebra en comunidad. \n\nCompartir con las herramientas nativasCompartirCopiado al portapapeles\n\nCompartir en WhatsApp (Se abre en una ventana nueva)WhatsApp\n\nCompartir en Facebook (Se abre en una ventana nueva)Facebook
URL:https://www.radioclasica.com.sv/evento/programa-encuentros-en-kalpataru/
LOCATION:Plaza Kalpataru\, C. La Mascota 928\, San Salvador 1101\, San Salvador\, San Salvador\, El Salvador
ATTACH;FMTTYPE=image/jpeg:https://www.radioclasica.com.sv/wp-content/uploads/2026/01/FB_IMG_1769473541636.jpg
END:VEVENT
END:VCALENDAR