BEGIN:VCALENDAR
VERSION:2.0
PRODID:-//Radio Clasica El Salvador - 103.3 FM - ECPv6.15.20//NONSGML v1.0//EN
CALSCALE:GREGORIAN
METHOD:PUBLISH
X-WR-CALNAME:Radio Clasica El Salvador - 103.3 FM
X-ORIGINAL-URL:https://www.radioclasica.com.sv
X-WR-CALDESC:Eventos para Radio Clasica El Salvador - 103.3 FM
REFRESH-INTERVAL;VALUE=DURATION:PT1H
X-Robots-Tag:noindex
X-PUBLISHED-TTL:PT1H
BEGIN:VTIMEZONE
TZID:America/El_Salvador
BEGIN:STANDARD
TZOFFSETFROM:-0600
TZOFFSETTO:-0600
TZNAME:CST
DTSTART:20250101T000000
END:STANDARD
END:VTIMEZONE
BEGIN:VEVENT
DTSTART;TZID=America/El_Salvador:20260209T100000
DTEND;TZID=America/El_Salvador:20260215T220000
DTSTAMP:20260421T160601
CREATED:20260209T183315Z
LAST-MODIFIED:20260209T183325Z
UID:20445-1770631200-1771192800@www.radioclasica.com.sv
SUMMARY:Palacio Nacional
DESCRIPTION:El Palacio Nacional te espera en horario especial. 🏛️✨ \nVen a visitarnos\, descubre su historia y arte a través de nuestros recorridos guiados y disfruta de una agenda de presentaciones pensada para toda la familia. \n📍 Palacio Nacional.🗓️ Lunes 9 de febrero.⏰ 10:00 a.m. – 10:00 p.m. \n¡Te esperamos para vivir el Centro Histórico de San Salvador de una forma diferente! 🙌🏼 \n\nCompartir con las herramientas nativasCompartirCopiado al portapapeles\n\nCompartir en WhatsApp (Se abre en una ventana nueva)WhatsApp\n\nCompartir en Facebook (Se abre en una ventana nueva)Facebook
URL:https://www.radioclasica.com.sv/evento/palacio-nacional/
ATTACH;FMTTYPE=image/jpeg:https://www.radioclasica.com.sv/wp-content/uploads/2026/02/FB_IMG_1770661104569.jpg
END:VEVENT
END:VCALENDAR