BEGIN:VCALENDAR
VERSION:2.0
PRODID:-//Radio Clasica El Salvador - 103.3 FM - ECPv6.15.20//NONSGML v1.0//EN
CALSCALE:GREGORIAN
METHOD:PUBLISH
X-WR-CALNAME:Radio Clasica El Salvador - 103.3 FM
X-ORIGINAL-URL:https://www.radioclasica.com.sv
X-WR-CALDESC:Eventos para Radio Clasica El Salvador - 103.3 FM
REFRESH-INTERVAL;VALUE=DURATION:PT1H
X-Robots-Tag:noindex
X-PUBLISHED-TTL:PT1H
BEGIN:VTIMEZONE
TZID:America/El_Salvador
BEGIN:STANDARD
TZOFFSETFROM:-0600
TZOFFSETTO:-0600
TZNAME:CST
DTSTART:20240101T000000
END:STANDARD
END:VTIMEZONE
BEGIN:VEVENT
DTSTART;TZID=America/El_Salvador:20251127T180000
DTEND;TZID=America/El_Salvador:20251127T200000
DTSTAMP:20260419T122925
CREATED:20251126T172843Z
LAST-MODIFIED:20251126T175059Z
UID:13325-1764266400-1764273600@www.radioclasica.com.sv
SUMMARY:Navidades Vicentinas
DESCRIPTION:🎄 ¡Navidades Vicentinas en el MUPI!Este 27 de noviembre a las 6 p.m.\, el MUPI se llena de historia y música con un concierto único de villancicos salvadoreños de los siglos XVIII\, XIX y XX. 🎶✨ \nDisfrutá estrenos especiales interpretados por nuestra orquesta\, junto a las solistas Rosvita Duarte (soprano) y Claudia Acosta (mezzosoprano). \nEste evento forma parte del trabajo del MUPI por rescatar nuestra memoria musical y celebrar el inicio de su 30 aniversario. 🥳📚 \n📍 https://maps.app.goo.gl/e5NeSaMjd7G5xjGM7¡Vení y viví una Navidad con raíces salvadoreñas! 🇸🇻✨ \n\nCompartir con las herramientas nativasCompartirCopiado al portapapeles\n\nCompartir en WhatsApp (Se abre en una ventana nueva)WhatsApp\n\nCompartir en Facebook (Se abre en una ventana nueva)Facebook
URL:https://www.radioclasica.com.sv/evento/navidades-vicentinas/
LOCATION:Museo de la Palabra y la Imagen\, MUPI\, 27 Avenida Norte #1140\, Urbanización La Esperanza\, entre 19 y 21 Calle Poniente\, San Salvador\, El Salvador
ATTACH;FMTTYPE=image/jpeg:https://www.radioclasica.com.sv/wp-content/uploads/2025/11/IMG-20251125-WA0017.jpg
END:VEVENT
END:VCALENDAR