BEGIN:VCALENDAR
VERSION:2.0
PRODID:-//Radio Clasica El Salvador - 103.3 FM - ECPv6.15.20//NONSGML v1.0//EN
CALSCALE:GREGORIAN
METHOD:PUBLISH
X-WR-CALNAME:Radio Clasica El Salvador - 103.3 FM
X-ORIGINAL-URL:https://www.radioclasica.com.sv
X-WR-CALDESC:Eventos para Radio Clasica El Salvador - 103.3 FM
REFRESH-INTERVAL;VALUE=DURATION:PT1H
X-Robots-Tag:noindex
X-PUBLISHED-TTL:PT1H
BEGIN:VTIMEZONE
TZID:America/El_Salvador
BEGIN:STANDARD
TZOFFSETFROM:-0600
TZOFFSETTO:-0600
TZNAME:CST
DTSTART:20240101T000000
END:STANDARD
END:VTIMEZONE
BEGIN:VEVENT
DTSTART;TZID=America/El_Salvador:20251206T183000
DTEND;TZID=America/El_Salvador:20251214T080000
DTSTAMP:20260421T065739
CREATED:20251203T232406Z
LAST-MODIFIED:20251203T232411Z
UID:13534-1765045800-1765699200@www.radioclasica.com.sv
SUMMARY:La Alegría de la Navidad con Acuarela Coral.
DESCRIPTION:Deseamos compartir con todos Ustedes. \nLa alegría de la Navidad que tiene la música y las letras de los villancicos. \nVengan a cantar junto con Acuarela Coral\, todas las presentaciones son para todo público. \n\n\n\n\n\n\n\n\n \n\nCompartir con las herramientas nativasCompartirCopiado al portapapeles\n\nCompartir en WhatsApp (Se abre en una ventana nueva)WhatsApp\n\nCompartir en Facebook (Se abre en una ventana nueva)Facebook
URL:https://www.radioclasica.com.sv/evento/la-alegria-de-la-navidad-con-acuarela-coral/
ATTACH;FMTTYPE=image/jpeg:https://www.radioclasica.com.sv/wp-content/uploads/2025/12/IMG-20251203-WA0006.jpg
END:VEVENT
BEGIN:VEVENT
DTSTART;TZID=America/El_Salvador:20251212T190000
DTEND;TZID=America/El_Salvador:20251214T160000
DTSTAMP:20260421T065739
CREATED:20251212T195101Z
LAST-MODIFIED:20251212T195112Z
UID:13948-1765566000-1765728000@www.radioclasica.com.sv
SUMMARY:Los Cuentos de Mamá Claus
DESCRIPTION:Mientras Santa recorre el mundo en su trineo\, Mamá Claus abre las puertas de su casa para compartir historias llenas de magia\, ternura y espíritu navideño. 🌟 ¡Los cuentos de Mamá Claus llegan al teatro! \nEn este encantador espectáculo de teatro de títeres para todo público\, descubrirás dos cuentos que tocarán tu corazón: \n🎁 “El vendedor de juguetes” — una historia inspirada en una leyenda popular mexicana sobre la generosidad\, la empatía y los milagros que solo la Navidad puede traer. \n🦌 “Los nueve renos de Santa Claus” — un viaje lleno de magia donde conocerás a Dasher\, Dancer\, Vixen\, Prancer\, Cupid\, Comet\, Blitzen\, Donner y al querido Rudolph. \n✨ Una experiencia para toda la familia\, donde los títeres\, la música y la imaginación cobran vida al calor de una acogedora chimenea. \n🎄 Presenta: Buchinche Colectivo \n📍 Lugar: Teatro Célula\, San Benito (Waze o Maps) \n📆 Fechas \nViernes 12 de diciembre\, 7:00 p.m. \nSábado 13 de diciembre\, 7:00 p.m. \nDomingo 14 de diciembre\, 4:00 p.m. \n💵 Entrada general: $10 \n🎟️ Preventa especial: $7 \nAdquiere tus boletos al WhatsApp 📲 7474-7110 \n(mensaje directo: https://wa.link/u5vyx9) \n✨ Ven a disfrutar con toda la familia de una historia que te recordará por qué la Navidad es tiempo de compartir\, soñar y creer. ❤️🎅 \n  \n  \n\nCompartir con las herramientas nativasCompartirCopiado al portapapeles\n\nCompartir en WhatsApp (Se abre en una ventana nueva)WhatsApp\n\nCompartir en Facebook (Se abre en una ventana nueva)Facebook
URL:https://www.radioclasica.com.sv/evento/los-cuentos-de-mama-claus/
LOCATION:TEATRO CELULA SAN BENITO
ATTACH;FMTTYPE=image/jpeg:https://www.radioclasica.com.sv/wp-content/uploads/2025/12/FB_IMG_1765568298044.jpg
END:VEVENT
BEGIN:VEVENT
DTSTART;TZID=America/El_Salvador:20251214T110000
DTEND;TZID=America/El_Salvador:20251214T180000
DTSTAMP:20260421T065739
CREATED:20251128T204810Z
LAST-MODIFIED:20251128T204821Z
UID:13389-1765710000-1765735200@www.radioclasica.com.sv
SUMMARY:La Magia del Estante.
DESCRIPTION:🎄 \nEl gran día está casi por llegar… Descubre La Magia del Estante esté próximo Domingo 14 de Diciembre en Auditorium FEPADE en horarios de: \n11 AM – 3 PM – 6 PM✨ \n🎫Últimos días para adquirir tus boletos en precio de PREVENTA a través de funcapital hasta el 30 de noviembre \n  \n\nCompartir con las herramientas nativasCompartirCopiado al portapapeles\n\nCompartir en WhatsApp (Se abre en una ventana nueva)WhatsApp\n\nCompartir en Facebook (Se abre en una ventana nueva)Facebook
URL:https://www.radioclasica.com.sv/evento/la-magia-del-estante/
LOCATION:Auditorio FEPADE
ATTACH;FMTTYPE=image/jpeg:https://www.radioclasica.com.sv/wp-content/uploads/2025/11/IMG-20251127-WA0014.jpg
END:VEVENT
BEGIN:VEVENT
DTSTART;TZID=America/El_Salvador:20251214T170000
DTEND;TZID=America/El_Salvador:20251214T183000
DTSTAMP:20260421T065739
CREATED:20251213T171912Z
LAST-MODIFIED:20251213T172110Z
UID:14018-1765731600-1765737000@www.radioclasica.com.sv
SUMMARY:Una Ratita En Navidad
DESCRIPTION:Estudio Teatro Caretas te invita a la presentación de la obra 🎭 \n✨Una Ratita En Navidad✨ \n📍Lugar: Sala De Té El Bambú \nCalle a La Estación colonial Canjura block 2 # 1 Apopa \n📆 Fecha: Domingo 14 de diciembre. \n💲 Costo: $5.00 \nAcompáñanos para disfrutar esta historia navideña 🐭🌲 \n¡TE ESPERAMOS! \n\nCompartir con las herramientas nativasCompartirCopiado al portapapeles\n\nCompartir en WhatsApp (Se abre en una ventana nueva)WhatsApp\n\nCompartir en Facebook (Se abre en una ventana nueva)Facebook
URL:https://www.radioclasica.com.sv/evento/una-ratita-en-navidad/
ATTACH;FMTTYPE=image/jpeg:https://www.radioclasica.com.sv/wp-content/uploads/2025/12/FB_IMG_1765644195922.jpg
END:VEVENT
END:VCALENDAR