BEGIN:VCALENDAR
VERSION:2.0
PRODID:-//Radio Clasica El Salvador - 103.3 FM - ECPv6.15.20//NONSGML v1.0//EN
CALSCALE:GREGORIAN
METHOD:PUBLISH
X-ORIGINAL-URL:https://www.radioclasica.com.sv
X-WR-CALDESC:Eventos para Radio Clasica El Salvador - 103.3 FM
REFRESH-INTERVAL;VALUE=DURATION:PT1H
X-Robots-Tag:noindex
X-PUBLISHED-TTL:PT1H
BEGIN:VTIMEZONE
TZID:America/El_Salvador
BEGIN:STANDARD
TZOFFSETFROM:-0600
TZOFFSETTO:-0600
TZNAME:CST
DTSTART:20240101T000000
END:STANDARD
END:VTIMEZONE
BEGIN:VEVENT
DTSTART;TZID=America/El_Salvador:20251118T133000
DTEND;TZID=America/El_Salvador:20251118T150000
DTSTAMP:20260421T065628
CREATED:20251117T165200Z
LAST-MODIFIED:20251117T165208Z
UID:12941-1763472600-1763478000@www.radioclasica.com.sv
SUMMARY:Campamento de Navidad
DESCRIPTION:¡Campamento de Navidad Waldorf: Regala Calma y Propósito a tus Hijos! ​🎄 \n​En esta temporada\, donde el ruido y el consumo se apoderan de todo\, ofrecemos a tus hijos un refugio de creatividad\, conexión y aprendizaje significativo. \n​🏡 El Valor de la Pedagogía Waldorf:Nuestros talleres se centran en el trabajo manual y el movimiento\, herramientas poderosas que activan el cerebro\, fomentan el pensamiento ágil\, fortalecen la coordinación y potencian el desarrollo integral. ¡La mejor inversión es el tiempo y las habilidades que tu hijo o hija desarrollará con sus propias manos y su cuerpo! \n​🗓️ Calendario de Talleres (Del 18 de Noviembre al 11 de Diciembre): \n​✨ Guardianes de la Navidad / Duendes: 18 de noviembre (Edades 7 a 10 años).​🎄 Tarjetas Navideñas: 20 de noviembre (Edades 7 a 10 años).​🤸 Movimiento y Dibujo Libre: Sábados 22 y 29 de noviembre (Edades 5\, 6 y 7 años).​🕯️ Corona de Adviento y Velas: 25 de noviembre (Edades 3 a 10 años).​🌟 Estrellas Arcoíris: 27 de noviembre (Edades 7 a 10 años).​🧶 Atrapasueños: 2 de diciembre (Edades 7 a 10 años).​🍪 Galletas Saludables Gluten Free: 4 de diciembre (Edades 7 a 10 años).​🎨 Arte y Moldeo con Barro / Arte de la Tierra: (Distintas fechas y edades). \n​❤️ Doble Propósito: Ayudas a la Educación. El 100% de la contribución de estos talleres es a beneficio de Casa Nuyulu para la participación de nuestras maestras en el XVI Encuentro Centroamericano de Pedagogía Waldorf\, en enero 2026. ¡Cada inscripción cuenta para seguir fortaleciendo la educación de nuestros niños! \n​¡Plazas Limitadas! Reserva el espacio que cambiará la Navidad de tu hijo. \n​📲 Para horarios\, costos y más detalles\, escríbenos directamente a WhatsApp:+503 7941 0357 \nHaz click en el enlace https://wa.me/50379410357 \n​ \n\nCompartir con las herramientas nativasCompartirCopiado al portapapeles\n\nCompartir en WhatsApp (Se abre en una ventana nueva)WhatsApp\n\nCompartir en Facebook (Se abre en una ventana nueva)Facebook
URL:https://www.radioclasica.com.sv/evento/campamento-de-navidad/
ATTACH;FMTTYPE=image/jpeg:https://www.radioclasica.com.sv/wp-content/uploads/2025/11/IMG-20251114-WA0004.jpg
END:VEVENT
BEGIN:VEVENT
DTSTART;TZID=America/El_Salvador:20251129T190000
DTEND;TZID=America/El_Salvador:20251129T203000
DTSTAMP:20260421T065628
CREATED:20251129T195005Z
LAST-MODIFIED:20251129T195010Z
UID:13416-1764442800-1764448200@www.radioclasica.com.sv
SUMMARY:Concierto OPUS 503
DESCRIPTION:OPUS 503\n\nListos a encender junto a ustedes el Árbol de Navidad de Antiguo Cuscatlan.\n7 PM – Parque Central.\n\nFeliz Navidad 🎄\n\n\n\n\nCompartir con las herramientas nativasCompartirCopiado al portapapeles\n\nCompartir en WhatsApp (Se abre en una ventana nueva)WhatsApp\n\nCompartir en Facebook (Se abre en una ventana nueva)Facebook
URL:https://www.radioclasica.com.sv/evento/concierto-opus-503/
ATTACH;FMTTYPE=image/jpeg:https://www.radioclasica.com.sv/wp-content/uploads/2025/11/Screenshot_20251129_115309_WhatsApp.jpg
END:VEVENT
END:VCALENDAR