BEGIN:VCALENDAR
VERSION:2.0
PRODID:-//Radio Clasica El Salvador - 103.3 FM - ECPv6.15.20//NONSGML v1.0//EN
CALSCALE:GREGORIAN
METHOD:PUBLISH
X-ORIGINAL-URL:https://www.radioclasica.com.sv
X-WR-CALDESC:Eventos para Radio Clasica El Salvador - 103.3 FM
REFRESH-INTERVAL;VALUE=DURATION:PT1H
X-Robots-Tag:noindex
X-PUBLISHED-TTL:PT1H
BEGIN:VTIMEZONE
TZID:America/El_Salvador
BEGIN:STANDARD
TZOFFSETFROM:-0600
TZOFFSETTO:-0600
TZNAME:CST
DTSTART:20240101T000000
END:STANDARD
END:VTIMEZONE
BEGIN:VEVENT
DTSTART;TZID=America/El_Salvador:20251025T150000
DTEND;TZID=America/El_Salvador:20251025T180000
DTSTAMP:20260419T164202
CREATED:20251008T024712Z
LAST-MODIFIED:20251008T024721Z
UID:11337-1761404400-1761415200@www.radioclasica.com.sv
SUMMARY:Los 5 Lenguajes del Amor
DESCRIPTION:Te invitamos a compartir una agradable tarde de café mientras descubrimos los 5 lenguajes del amor\, en una charla amena y reflexiva a cargo del psicólogo Carlos Mauricio Cerna.\n\n\n ¿Porqué debes asistir?\n\n\n Para aprender a identificar tu lenguaje del amor.\n Mejorar tus relaciones personales y laborales.\n Disfrutar de un ambiente cálido y enriquecedor.\n Conectar con personas que buscan crecer como tú.\n\n\n Fecha: Sábado 25 de octubre.\n Hora: 3:00 p.m. a 6:00 p.m.\n Lugar: Restaurante Los Cebollines Escalón\, frente a Centro Comercial Galerías.\n Contribución: $15.00 Incluye refrigerio.\n Cupos limitados.\n\n\n Reserva ya tu asistencia por:\nWhatsApp 7637-2102\n\n\n ¡Te esperamos!\n\n\n\n\n\nCompartir con las herramientas nativasCompartirCopiado al portapapeles\n\nCompartir en WhatsApp (Se abre en una ventana nueva)WhatsApp\n\nCompartir en Facebook (Se abre en una ventana nueva)Facebook
URL:https://www.radioclasica.com.sv/evento/los-5-lenguajes-del-amor/
LOCATION:Restaurante Los Cebollines\, Escalón\, frente a Centro Comercial Galerías.
ATTACH;FMTTYPE=image/jpeg:https://www.radioclasica.com.sv/wp-content/uploads/2025/10/IMG-20251006-WA0013.jpg
END:VEVENT
END:VCALENDAR