BEGIN:VCALENDAR
VERSION:2.0
PRODID:-//Radio Clasica El Salvador - 103.3 FM - ECPv6.15.20//NONSGML v1.0//EN
CALSCALE:GREGORIAN
METHOD:PUBLISH
X-ORIGINAL-URL:https://www.radioclasica.com.sv
X-WR-CALDESC:Eventos para Radio Clasica El Salvador - 103.3 FM
REFRESH-INTERVAL;VALUE=DURATION:PT1H
X-Robots-Tag:noindex
X-PUBLISHED-TTL:PT1H
BEGIN:VTIMEZONE
TZID:America/El_Salvador
BEGIN:STANDARD
TZOFFSETFROM:-0600
TZOFFSETTO:-0600
TZNAME:CST
DTSTART:20250101T000000
END:STANDARD
END:VTIMEZONE
BEGIN:VEVENT
DTSTART;TZID=America/El_Salvador:20260306T190000
DTEND;TZID=America/El_Salvador:20260308T160000
DTSTAMP:20260419T153806
CREATED:20260303T163435Z
LAST-MODIFIED:20260303T163630Z
UID:23684-1772823600-1772985600@www.radioclasica.com.sv
SUMMARY:Ballet Folklórico Nacional\, presenta: Mujer de las Américas.
DESCRIPTION:Siguiendo con nuestra temporada de presentaciones artísticas\, te invitamos a disfrutar del Ballet Folklórico Nacional y su espectáculo “Mujer de las Américas: homenaje a la maestra María de Baratta”. \nUna puesta en escena inspirada en los escritos de la maestra salvadoreña María de Baratta sobre las tradiciones de Santiago Aculhuaca que celebra nuestra identidad a través de la danza.  \n📍 Teatro Nacional de San Salvador🗓️ Viernes 6 | 7:00 p.m.🗓️ Sábado 7 | 4:00 p.m.🗓️ Domingo 8 | 4:00 p.m.🎟️ Adquiere tus boletos en la taquilla del teatro y en el siguiente enlace: 👉🏻🔗 https://tienda.cultura.gob.sv/ \n\n\n\n\n\n\n\n\n \n\nCompartir con las herramientas nativasCompartirCopiado al portapapeles\n\nCompartir en WhatsApp (Se abre en una ventana nueva)WhatsApp\n\nCompartir en Facebook (Se abre en una ventana nueva)Facebook
URL:https://www.radioclasica.com.sv/evento/ballet-folklorico-nacional-presenta-mujer-de-las-americas/
LOCATION:Teatro Nacional de San Salvador
ATTACH;FMTTYPE=image/jpeg:https://www.radioclasica.com.sv/wp-content/uploads/2026/03/FB_IMG_1772554915533.jpg
END:VEVENT
END:VCALENDAR