BEGIN:VCALENDAR
VERSION:2.0
PRODID:-//Radio Clasica El Salvador - 103.3 FM - ECPv6.15.20//NONSGML v1.0//EN
CALSCALE:GREGORIAN
METHOD:PUBLISH
X-ORIGINAL-URL:https://www.radioclasica.com.sv
X-WR-CALDESC:Eventos para Radio Clasica El Salvador - 103.3 FM
REFRESH-INTERVAL;VALUE=DURATION:PT1H
X-Robots-Tag:noindex
X-PUBLISHED-TTL:PT1H
BEGIN:VTIMEZONE
TZID:America/El_Salvador
BEGIN:STANDARD
TZOFFSETFROM:-0600
TZOFFSETTO:-0600
TZNAME:CST
DTSTART:20240101T000000
END:STANDARD
END:VTIMEZONE
BEGIN:VEVENT
DTSTART;TZID=America/El_Salvador:20251201T180000
DTEND;TZID=America/El_Salvador:20251201T190000
DTSTAMP:20260421T095923
CREATED:20251124T233408Z
LAST-MODIFIED:20251124T233413Z
UID:13254-1764612000-1764615600@www.radioclasica.com.sv
SUMMARY:Noche de Arte y Café.
DESCRIPTION:El Instituto Salvadoreño del Café tiene el agrado de invitarle a la : Noche de Arte y Café.\n\n\n\n\nCompartir con las herramientas nativasCompartirCopiado al portapapeles\n\nCompartir en WhatsApp (Se abre en una ventana nueva)WhatsApp\n\nCompartir en Facebook (Se abre en una ventana nueva)Facebook
URL:https://www.radioclasica.com.sv/evento/noche-de-arte-y-cafe/
LOCATION:Ministerio de Relaciones Exteriores
ATTACH;FMTTYPE=image/jpeg:https://www.radioclasica.com.sv/wp-content/uploads/2025/11/IMG-20251124-WA0012.jpg
END:VEVENT
END:VCALENDAR