BEGIN:VCALENDAR
VERSION:2.0
PRODID:-//Radio Clasica El Salvador - 103.3 FM - ECPv6.15.20//NONSGML v1.0//EN
CALSCALE:GREGORIAN
METHOD:PUBLISH
X-WR-CALNAME:Radio Clasica El Salvador - 103.3 FM
X-ORIGINAL-URL:https://www.radioclasica.com.sv
X-WR-CALDESC:Eventos para Radio Clasica El Salvador - 103.3 FM
REFRESH-INTERVAL;VALUE=DURATION:PT1H
X-Robots-Tag:noindex
X-PUBLISHED-TTL:PT1H
BEGIN:VTIMEZONE
TZID:America/El_Salvador
BEGIN:STANDARD
TZOFFSETFROM:-0600
TZOFFSETTO:-0600
TZNAME:CST
DTSTART:20250101T000000
END:STANDARD
END:VTIMEZONE
BEGIN:VEVENT
DTSTART;TZID=America/El_Salvador:20260116T200000
DTEND;TZID=America/El_Salvador:20260116T220000
DTSTAMP:20260419T121614
CREATED:20260107T214838Z
LAST-MODIFIED:20260107T214845Z
UID:15898-1768593600-1768600800@www.radioclasica.com.sv
SUMMARY:Concierto Íntimo con Buena Fe\, en El Salvador.
DESCRIPTION:El próximo 16 de enero 2026\, vive una experiencia musical única con uno de los dúos más representativos de la trova cubana contemporánea. \nEn el ambiente acogedor de @beerhausmtz\, Buena Fe brindará un experiencia inolvidable en un concierto íntimo cargado de poesía\, compromiso y cercanía\, donde cada canción se convierte en un diálogo sincero con el público. \n🗓 Fecha: 16 de enero 2026 \n🕗 Hora: 8:00 PM \n📍 Lugar: BeerHaus MTZ \n🎟 Preventa: $20.00 | Día del evento:$30.00\, más cargo de boletería. \nUna producción de Xarmusic y @reconexionproducciones \, con el apoyo de @coopesamusic1 . \nEntradas disponibles en @plusticketsv . \n\nCompartir con las herramientas nativasCompartirCopiado al portapapeles\n\nCompartir en WhatsApp (Se abre en una ventana nueva)WhatsApp\n\nCompartir en Facebook (Se abre en una ventana nueva)Facebook
URL:https://www.radioclasica.com.sv/evento/concierto-intimo-con-buena-fe-en-el-salvador/
ATTACH;FMTTYPE=image/jpeg:https://www.radioclasica.com.sv/wp-content/uploads/2026/01/FB_IMG_1767821102603.jpg
END:VEVENT
END:VCALENDAR