BEGIN:VCALENDAR
VERSION:2.0
PRODID:-//Radio Clasica El Salvador - 103.3 FM - ECPv6.15.20//NONSGML v1.0//EN
CALSCALE:GREGORIAN
METHOD:PUBLISH
X-WR-CALNAME:Radio Clasica El Salvador - 103.3 FM
X-ORIGINAL-URL:https://www.radioclasica.com.sv
X-WR-CALDESC:Eventos para Radio Clasica El Salvador - 103.3 FM
REFRESH-INTERVAL;VALUE=DURATION:PT1H
X-Robots-Tag:noindex
X-PUBLISHED-TTL:PT1H
BEGIN:VTIMEZONE
TZID:America/El_Salvador
BEGIN:STANDARD
TZOFFSETFROM:-0600
TZOFFSETTO:-0600
TZNAME:CST
DTSTART:20250101T000000
END:STANDARD
END:VTIMEZONE
BEGIN:VEVENT
DTSTART;TZID=America/El_Salvador:20260321T090000
DTEND;TZID=America/El_Salvador:20260614T180000
DTSTAMP:20260424T010525
CREATED:20260321T164111Z
LAST-MODIFIED:20260321T164414Z
UID:26251-1774083600-1781460000@www.radioclasica.com.sv
SUMMARY:Miradas Complementarias: Goya\, Dalí y Otras Visiones.
DESCRIPTION:Ustedes nos lo pidieron y nosotros también lo queríamos… MIRADAS COMPLEMENTARIAS: Goya\, Dalí y otras visiones se queda en Museo MARTE hasta el 14 de junio del 2026. \n¡No te quedes sin ver esta exhibición única en el país y la historia de los caprichos! \n\nCompartir con las herramientas nativasCompartirCopiado al portapapeles\n\nCompartir en WhatsApp (Se abre en una ventana nueva)WhatsApp\n\nCompartir en Facebook (Se abre en una ventana nueva)Facebook
URL:https://www.radioclasica.com.sv/evento/miradas-complementarias-goya-dali-y-otras-visiones/
LOCATION:Museo MARTE\, Final Avenida de la Revolución Colonia San Benito\, San Salvador.\, San Salvador\, San Salvador\, El Salvador
ATTACH;FMTTYPE=image/jpeg:https://www.radioclasica.com.sv/wp-content/uploads/2026/03/FB_IMG_1774108398720.jpg
END:VEVENT
BEGIN:VEVENT
DTSTART;TZID=America/El_Salvador:20260326T100000
DTEND;TZID=America/El_Salvador:20260507T120000
DTSTAMP:20260424T010525
CREATED:20260219T003755Z
LAST-MODIFIED:20260219T003801Z
UID:21829-1774519200-1778155200@www.radioclasica.com.sv
SUMMARY:Taller de Huertos Familiares
DESCRIPTION:🌱🌿 Convocatoria abierta | El huerto de mi casa 2026. \nEl taller «El huerto de mi casa»\, ya un clásico del Centro Cultural de España en El Salvador\, invita a inscribirse en la séptima edición de esta formación práctica para aprender a diseñar y manejar huertos familiares desde los principios agroecológicos. \n👨🏽‍🌾 Esta edición 2026\, que guiará el agroecólogo César Erazo para fomentar el consumo saludable y el respeto por el medioambiente\, se desarrollará: \n📅 Jueves 26 de marzo; 9\, 16\, 23 y 30 de abril; y 7 de mayo \n⏰ De 10:00 a. m. a 12:00 m. \n\n«El huerto de mi casa 2026» se dirige a todas las personas\, en especial de 18 a 50 años\, interesadas en aprender y desaprender\, con sensibilidad frente a la crisis alimentaria\, disponibilidad para montar un huerto familiar ¡y buen ánimo para el trabajo físico de siembra y cultivo! \n\n🗓️ Puedes solicitar inscribirte a esta formación antes del 12 de marzo: https://ccesv.aecid.es/-/taller-el-huerto-de-mi-casa-2026?redirect=%2Fweb%2Fcc-sansalvador%2Finicio \n\nCompartir con las herramientas nativasCompartirCopiado al portapapeles\n\nCompartir en WhatsApp (Se abre en una ventana nueva)WhatsApp\n\nCompartir en Facebook (Se abre en una ventana nueva)Facebook
URL:https://www.radioclasica.com.sv/evento/taller-de-huertos-familiares/
LOCATION:Centro Cultural de España en El Salvador\, Calle La Reforma #166\, Colonia San Benito\, San Salvador\, El Salvador
ATTACH;FMTTYPE=image/jpeg:https://www.radioclasica.com.sv/wp-content/uploads/2026/02/FB_IMG_1771460457397.jpg
END:VEVENT
BEGIN:VEVENT
DTSTART;TZID=America/El_Salvador:20260408T190000
DTEND;TZID=America/El_Salvador:20260429T210000
DTSTAMP:20260424T010525
CREATED:20260329T022938Z
LAST-MODIFIED:20260329T022942Z
UID:27410-1775674800-1777496400@www.radioclasica.com.sv
SUMMARY:Ciclo de Cine De Novela
DESCRIPTION:📚🎬 Cine de novela en el #CCESV \nEn abril\, el Mes del Libro\, presentamos el ciclo de cine «De novela» con una selección de películas de ficción basadas en obras literarias. \nProyectaremos cuatro producciones españolas en las que el cine dialoga con historias nacidas en la página escrita. \n📅 8\, 15\, 22 y 29 de abril \n⏰ 7:00 p. m. \n📍 #CCESV \nhttps://ccesv.aecid.es/web/cc-sansalvador/-/ciclo-de-cine-de-novela \n\nCompartir con las herramientas nativasCompartirCopiado al portapapeles\n\nCompartir en WhatsApp (Se abre en una ventana nueva)WhatsApp\n\nCompartir en Facebook (Se abre en una ventana nueva)Facebook
URL:https://www.radioclasica.com.sv/evento/ciclo-de-cine-de-novela/
LOCATION:Centro Cultural de España en El Salvador\, Calle La Reforma #166\, Colonia San Benito\, San Salvador\, El Salvador
ATTACH;FMTTYPE=image/jpeg:https://www.radioclasica.com.sv/wp-content/uploads/2026/03/FB_IMG_1774750868011-4.jpg
END:VEVENT
BEGIN:VEVENT
DTSTART;TZID=America/El_Salvador:20260415T133000
DTEND;TZID=America/El_Salvador:20260429T143000
DTSTAMP:20260424T010525
CREATED:20260411T231709Z
LAST-MODIFIED:20260411T231715Z
UID:28938-1776259800-1777473000@www.radioclasica.com.sv
SUMMARY:Taller de Autocuidados\, Bienestar y Arte Terapia
DESCRIPTION:Un espacio para detenerse\, escucharse y conectar con lo que habita en tu interior. \nA través del arte\, este taller propone un proceso de exploración personal\, donde la creación se convierte en herramienta de bienestar\, expresión y sanación. \nImpartido por Ruth Guttfreund\, este es un lugar para habitar el cuerpo\, la emoción y la palabra desde el cuidado. \n✨ No necesitas experiencia previa \n✨ Abierto a todo público \n📅 Miércoles | 1:30 p.m. \n📍 Sala Anexa CCU \n🎟 Inscripciones abiertas en el link de la bio @ccu_uca \n\nCompartir con las herramientas nativasCompartirCopiado al portapapeles\n\nCompartir en WhatsApp (Se abre en una ventana nueva)WhatsApp\n\nCompartir en Facebook (Se abre en una ventana nueva)Facebook
URL:https://www.radioclasica.com.sv/evento/taller-de-autocuidados-bienestar-y-arte-terapia/
LOCATION:Centro Cultural Universitario\, Sala Anexa CCU
ATTACH;FMTTYPE=image/jpeg:https://www.radioclasica.com.sv/wp-content/uploads/2026/04/FB_IMG_1775946241188.jpg
END:VEVENT
BEGIN:VEVENT
DTSTART;TZID=America/El_Salvador:20260416T190000
DTEND;TZID=America/El_Salvador:20260426T180000
DTSTAMP:20260424T010525
CREATED:20260331T183317Z
LAST-MODIFIED:20260331T183321Z
UID:27654-1776366000-1777226400@www.radioclasica.com.sv
SUMMARY:Cuerpo de Cristo
DESCRIPTION:Más de 24 actores en escena y una orquesta de 19 músicos en vivo te harán vivir los últimos días de Jesús como núnca antes. \nNo te pierdas CUERPO DE CRISTO📍 Escenario Millennium📅 Estreno: 16 de abril🎟️ General $18 | Preferencial $25 | Platino $30🎫 Reserva en blackcoyote.com \n\nCompartir con las herramientas nativasCompartirCopiado al portapapeles\n\nCompartir en WhatsApp (Se abre en una ventana nueva)WhatsApp\n\nCompartir en Facebook (Se abre en una ventana nueva)Facebook
URL:https://www.radioclasica.com.sv/evento/cuerpo-de-cristo/
LOCATION:Escenario Millennium
ATTACH;FMTTYPE=image/jpeg:https://www.radioclasica.com.sv/wp-content/uploads/2026/03/Screenshot_20260331_115943_Facebook.jpg
END:VEVENT
BEGIN:VEVENT
DTSTART;TZID=America/El_Salvador:20260422T080000
DTEND;TZID=America/El_Salvador:20260429T170000
DTSTAMP:20260424T010525
CREATED:20260422T232103Z
LAST-MODIFIED:20260422T232106Z
UID:30283-1776844800-1777482000@www.radioclasica.com.sv
SUMMARY:Clases de Canto en OPES
DESCRIPTION:¿Siempre has querido cantar pero no sabías por dónde empezar? 🤔🎤 \n¡Esta es tu oportunidad! \nEn la Ópera de El Salvador creemos que el talento no tiene edad. \nNuestras clases están abiertas para niños\, jóvenes y adultos que deseen aprender la técnica correcta del canto en un entorno de excelencia. \n🌟 Aprende con los mejores: \nTécnica vocal. \nControl de la respiración. \nInterpretación. \n📩 Envíanos un mensaje directo y escríbenos al WhatsApp: 7299-7988. \n¡Únete a la familia OPES y dale a tu talento el escenario que se merece!  \n\nCompartir con las herramientas nativasCompartirCopiado al portapapeles\n\nCompartir en WhatsApp (Se abre en una ventana nueva)WhatsApp\n\nCompartir en Facebook (Se abre en una ventana nueva)Facebook
URL:https://www.radioclasica.com.sv/evento/clases-de-canto-en-opes/
ATTACH;FMTTYPE=image/jpeg:https://www.radioclasica.com.sv/wp-content/uploads/2026/04/FB_IMG_1776899288094.jpg
END:VEVENT
BEGIN:VEVENT
DTSTART;TZID=America/El_Salvador:20260423T190000
DTEND;TZID=America/El_Salvador:20260426T100000
DTSTAMP:20260424T010525
CREATED:20260421T201954Z
LAST-MODIFIED:20260421T202000Z
UID:30042-1776970800-1777197600@www.radioclasica.com.sv
SUMMARY:Conciertos de la Escuela Nacional de Música
DESCRIPTION:¡Que suene la música en este regreso a clases! 🎼 \nDisfrutemos de conciertos\, recitales y clases maestras de los alumnos del Programa Coral y el Programa Crecer con la Música de 📍 San Salvador\, Cojutepeque\, Ilobasco y San Vicente en diferentes espacios culturales\, con una programación ideal para disfrutar en familia. 🎶 \nAcompáñanos en el siguiente horario: \n📍 Teatro Presidente🗓️ 23 de abril⏰ 7:00 p.m. \n📍 Teatro Nacional de Santa Ana🗓️ 24 de abril⏰ 6:00 p.m. \n📍 Sede de la Escuela Nacional de Música San Salvador🗓️ 25 de abril⏰ 9:00 a.m. a 5:00 p.m. \n📍 Teatro Presidente🗓️ 26 de abril⏰ 10:00 a.m. \n\nCompartir con las herramientas nativasCompartirCopiado al portapapeles\n\nCompartir en WhatsApp (Se abre en una ventana nueva)WhatsApp\n\nCompartir en Facebook (Se abre en una ventana nueva)Facebook
URL:https://www.radioclasica.com.sv/evento/conciertos-de-la-escuela-nacional-de-musica/
ATTACH;FMTTYPE=image/jpeg:https://www.radioclasica.com.sv/wp-content/uploads/2026/04/FB_IMG_1776801669869.jpg
END:VEVENT
BEGIN:VEVENT
DTSTART;TZID=America/El_Salvador:20260423T190000
DTEND;TZID=America/El_Salvador:20260426T180000
DTSTAMP:20260424T010525
CREATED:20260422T002009Z
LAST-MODIFIED:20260422T002014Z
UID:30140-1776970800-1777226400@www.radioclasica.com.sv
SUMMARY:Cuerpo de Cristo - La Épica Musical 🎶
DESCRIPTION:Esta épica musical te sumerge en la historia más poderosa de todos los tiempos: La Pasión de Cristo a través de los ojos de quienes lo conocieron\, lo amaron y lo perdieron. \n📍 Escenario Millennium\, Millennium Plaza \n📆 Jueves 7:00pm\, Viernes 7:00pm\, Sábados 4:00 & 7:00pm\, Domingos 6:00pm \n🎫 Reserva en blackcoyote.com \n\nCompartir con las herramientas nativasCompartirCopiado al portapapeles\n\nCompartir en WhatsApp (Se abre en una ventana nueva)WhatsApp\n\nCompartir en Facebook (Se abre en una ventana nueva)Facebook
URL:https://www.radioclasica.com.sv/evento/cuerpo-de-cristo-la-epica-musical-%f0%9f%8e%b6/
ATTACH;FMTTYPE=image/jpeg:https://www.radioclasica.com.sv/wp-content/uploads/2026/04/IMG-20260421-WA0025-scaled.jpg
END:VEVENT
BEGIN:VEVENT
DTSTART;TZID=America/El_Salvador:20260424T190000
DTEND;TZID=America/El_Salvador:20260426T160000
DTSTAMP:20260424T010525
CREATED:20260410T200703Z
LAST-MODIFIED:20260410T201447Z
UID:28782-1777057200-1777219200@www.radioclasica.com.sv
SUMMARY:“La Abuelita y el Lobo Feroz”. 👵🏻🐺
DESCRIPTION:¡EL MAPA POR FIN MARCÓ EL LUGAR! 📍🐺 \nCaperucita encontró el camino y nos guía directo a Teatro La Reserva. \nEn Buchinche Colectivo celebramos nuestra primera década con un espectáculo imperdible: “La Abuelita y el Lobo Feroz”. \nSINOPSIS: La abuelita comienza a contar el clásico cuento de Caperucita Roja… pero todo cambia cuando el Lobo Feroz interrumpe la historia para revelar su propia verdad. \nA través de títeres y actuación en vivo el público descubre a un lobo muy distinto al que creíamos conocer. \nUn espectáculo para infancias y toda la familia\, que divierte\, emociona y sorprende. \nNo esperes al último momento. ¡Nuestra preventa ya inició! \n🎭 FUNCIONES: \n• Viernes 24 de abril – 7:00 PM \n• Sábado 25 de abril – 6:00 PM \n• Domingo 26 de abril – 11:00 AM y 4:00 PM \n💰 PREVENTA ESPECIAL: $7.00 (Día del evento $10.00) \n✅ COMPRA RÁPIDO Y SEGURO: https://buchinchecolectivo.n1co.shop/ \n📍 UBICACIÓN: Teatro La Reserva. Local 29D\, Centro Comercial Loma Linda\, 1er nivel. \nMantente pendiente\, que Caperucita pronto tomará posesión de su nuevo escenario. 👀✨ \n\nCompartir con las herramientas nativasCompartirCopiado al portapapeles\n\nCompartir en WhatsApp (Se abre en una ventana nueva)WhatsApp\n\nCompartir en Facebook (Se abre en una ventana nueva)Facebook
URL:https://www.radioclasica.com.sv/evento/la-abuelita-y-el-lobo-feroz-%f0%9f%91%b5%f0%9f%8f%bb%f0%9f%90%ba/
LOCATION:TEATRO LA RESERVA
ATTACH;FMTTYPE=image/jpeg:https://www.radioclasica.com.sv/wp-content/uploads/2026/04/FB_IMG_1775850364649.jpg
END:VEVENT
BEGIN:VEVENT
DTSTART;TZID=America/El_Salvador:20260424T210000
DTEND;TZID=America/El_Salvador:20260424T230000
DTSTAMP:20260424T010525
CREATED:20260422T204639Z
LAST-MODIFIED:20260422T204643Z
UID:30246-1777064400-1777071600@www.radioclasica.com.sv
SUMMARY:Rock\, Trova\, Jazz
DESCRIPTION:En Vinyl Café! \nNos acompaña Daniel Guardado\, Josue Rodriguez y el maestro Juan Carlos Berrios\, interpretando grandes temas de Serrat\, Cerati\, Real de Catorce\, Silvio Rodríguez\, Sabina\, Pablo Milanés\, Fito Páez\, Charly Garcia\, Baglietto\, Spinetta y algo más. \nViernes 24/04/26Hora 9 PMCover $5No te lo pierdas! \n\nCompartir con las herramientas nativasCompartirCopiado al portapapeles\n\nCompartir en WhatsApp (Se abre en una ventana nueva)WhatsApp\n\nCompartir en Facebook (Se abre en una ventana nueva)Facebook
URL:https://www.radioclasica.com.sv/evento/rock-trova-jazz/
LOCATION:Vinyl Café
ATTACH;FMTTYPE=image/jpeg:https://www.radioclasica.com.sv/wp-content/uploads/2026/04/IMG-20260422-WA0015.jpg
END:VEVENT
END:VCALENDAR